Workbook

Sheet counts
A1: State | B1: Party | C1: BDG | D1: Eco | E1: SWF | F1: Health | G1: PW | H1: VA | I1: LO | J1: Moral | K1: IM | L1: CR | M1: GM | N1: AB | O1: Edu | P1: Env | Q1: SFL | R1: CLT | S1: CF | T1: TR | U1: ND | V1: PTY | W1: CL | X1: GC | Y1: DR | Z1: Vote | AA1: OG | AB1: Sentences
A2: AL | B2: D | C2: 5 | D2: 5 | E2: 3 | F2: 2 | G2: 2 | H2: 0 | I2: 3 | J2: 4 | K2: 0 | L2: 0 | M2: 0 | N2: 0 | O2: 2 | P2: 4 | Q2: 0 | R2: 0 | S2: 0 | T2: 0 | U2: 0 | V2: 0 | W2: 0 | X2: 0 | Y2: 0 | Z2: 1 | AA2: 5 | AB2: =SUM(C2:AA2) -> 36
A3: AK | B3: D | C3: 1 | D3: 8 | E3: 2 | F3: 2 | G3: 2 | H3: 2 | I3: 4 | J3: 5 | K3: 0 | L3: 3 | M3: 0 | N3: 0 | O3: 2 | P3: 5 | Q3: 1 | R3: 0 | S3: 0 | T3: 0 | U3: 3 | V3: 0 | W3: 2 | X3: 0 | Y3: 0 | Z3: 1 | AA3: 5 | AB3: =SUM(C3:AA3) -> 48
A4: AZ | B4: D | C4: 0 | D4: 5 | E4: 3 | F4: 4 | G4: 4 | H4: 2 | I4: 4 | J4: 8 | K4: 1 | L4: 11 | M4: 0 | N4: 1 | O4: 5 | P4: 2 | Q4: 0 | R4: 0 | S4: 2 | T4: 1 | U4: 0 | V4: 2 | W4: 2 | X4: 0 | Y4: 0 | Z4: 0 | AA4: 2 | AB4: =SUM(C4:AA4) -> 59
A5: AR | B5: D | C5: 4 | D5: 17 | E5: 10 | F5: 18 | G5: 7 | H5: 11 | I5: 5 | J5: 8 | K5: 4 | L5: 11 | M5: 0 | N5: 1 | O5: 20 | P5: 11 | Q5: 0 | R5: 0 | S5: 0 | T5: 0 | U5: 2 | V5: 5 | W5: 4 | X5: 2 | Y5: 1 | Z5: 1 | AA5: 7 | AB5: =SUM(C5:AA5) -> 149
A6: CA | B6: D | C6: 4 | D6: 65 | E6: 34 | F6: 42 | G6: 31 | H6: 21 | I6: 52 | J6: 5 | K6: 34 | L6: 31 | M6: 4 | N6: 6 | O6: 27 | P6: 15 | Q6: 1 | R6: 9 | S6: 4 | T6: 11 | U6: 56 | V6: 0 | W6: 9 | X6: 3 | Y6: 2 | Z6: 19 | AA6: 1 | AB6: =SUM(C6:AA6) -> 486
A7: CO | B7: D | C7: 12 | D7: 100 | E7: 14 | F7: 74 | G7: 50 | H7: 8 | I7: 40 | J7: 6 | K7: 38 | L7: 19 | M7: 6 | N7: 5 | O7: 48 | P7: 74 | Q7: 0 | R7: 12 | S7: 39 | T7: 33 | U7: 59 | V7: 5 | W7: 16 | X7: 2 | Y7: 4 | Z7: 34 | AA7: 18 | AB7: =SUM(C7:AA7) -> 716
A8: CT | B8: D
A9: DE | B9: D
A10: FL | B10: D
A11: GA | B11: D
A12: HI | B12: D | C12: 1 | D12: 44 | E12: 11 | F12: 8 | G12: 20 | H12: 7 | I12: 1 | J12: 4 | K12: 7 | L12: 15 | M12: 2 | N12: 2 | O12: 16 | P12: 25 | Q12: 3 | R12: 4 | S12: 4 | T12: 0 | U12: 9 | V12: 0 | W12: 4 | X12: 0 | Y12: 1 | Z12: 3 | AA12: 7 | AB12: =SUM(C12:AA12) -> 198
A13: ID | B13: D | C13: 7 | D13: 16 | E13: 7 | F13: 10 | G13: 5 | H13: 3 | I13: 7 | J13: 3 | K13: 1 | L13: 6 | M13: 1 | N13: 5 | O13: 15 | P13: 10 | Q13: 4 | R13: 2 | S13: 1 | T13: 0 | U13: 3 | V13: 3 | W13: 2 | X13: 1 | Y13: 3 | Z13: 8 | AA13: 7 | AB13: =SUM(C13:AA13) -> 130
A14: IL | B14: D
A15: IN | B15: D | C15: 3 | D15: 70 | E15: 10 | F15: 5 | G15: 23 | H15: 7 | I15: 1 | J15: 14 | K15: 0 | L15: 29 | M15: 1 | N15: 1 | O15: 15 | P15: 9 | Q15: 2 | R15: 0 | S15: 0 | T15: 0 | U15: 0 | V15: 2 | W15: 0 | X15: 0 | Y15: 1 | Z15: 5 | AA15: 13 | AB15: =SUM(C15:AA15) -> 211
A16: IA | B16: D | C16: 17 | D16: 97 | E16: 30 | F16: 23 | G16: 26 | H16: 18 | I16: 16 | J16: 5 | K16: 18 | L16: 20 | M16: 11 | N16: 7 | O16: 51 | P16: 29 | Q16: 0 | R16: 8 | S16: 7 | T16: 6 | U16: 58 | V16: 0 | W16: 11 | X16: 2 | Y16: 2 | Z16: 9 | AA16: 1 | AB16: =SUM(C16:AA16) -> 472
A17: KS | B17: D | C17: 12 | D17: 44 | E17: 13 | F17: 15 | G17: 10 | H17: 8 | I17: 4 | J17: 5 | K17: 0 | L17: 7 | M17: 0 | N17: 0 | O17: 21 | P17: 10 | Q17: 0 | R17: 0 | S17: 2 | T17: 0 | U17: 0 | V17: 0 | W17: 0 | X17: 0 | Y17: 0 | Z17: 6 | AA17: 3 | AB17: =SUM(C17:AA17) -> 160
A18: KY | B18: D | AB18: =SUM(C18:AA18) -> 0
A19: LA | B19: D | AB19: =SUM(C19:AA19) -> 0
A20: ME | B20: D | C20: 0 | D20: 34 | E20: 18 | F20: 7 | G20: 3 | H20: 0 | I20: 2 | J20: 4 | K20: 1 | L20: 5 | M20: 1 | N20: 2 | O20: 8 | P20: 20 | Q20: 2 | R20: 1 | S20: 2 | T20: 1 | U20: 24 | V20: 2 | W20: 7 | X20: 0 | Y20: 0 | Z20: 5 | AA20: 2 | AB20: =SUM(C20:AA20) -> 151
A21: MD | B21: D | AB21: =SUM(C21:AA21) -> 0
A22: MA | B22: D | C22: 13 | D22: 27 | E22: 15 | F22: 12 | G22: 20 | H22: 3 | I22: 15 | J22: 3 | K22: 14 | L22: 12 | M22: 1 | N22: 5 | O22: 24 | P22: 36 | Q22: 1 | R22: 0 | S22: 3 | T22: 0 | U22: 1 | V22: 0 | W22: 2 | X22: 1 | Y22: 1 | Z22: 13 | AA22: 13 | AB22: =SUM(C22:AA22) -> 235
A23: MI | B23: D | AB23: =SUM(C23:AA23) -> 0
A24: MN | B24: D | C24: 17 | D24: 44 | E24: 14 | F24: 11 | G24: 12 | H24: 5 | I24: 15 | J24: 0 | K24: 4 | L24: 7 | M24: 3 | N24: 2 | O24: 20 | P24: 18 | Q24: 5 | R24: 0 | S24: 8 | T24: 2 | U24: 16 | V24: 0 | W24: 7 | X24: 3 | Y24: 2 | Z24: 1 | AA24: 5 | AB24: =SUM(C24:AA24) -> 221
A25: MS | B25: D | C25: 0 | D25: 6 | E25: 1 | F25: 1 | G25: 0 | H25: 2 | I25: 2 | J25: 0 | K25: 3 | L25: 1 | M25: 2 | N25: 5 | O25: 3 | P25: 3 | Q25: 0 | R25: 0 | S25: 1 | T25: 0 | U25: 0 | V25: 3 | W25: 0 | X25: 0 | Y25: 0 | Z25: 4 | AA25: 0 | AB25: =SUM(C25:AA25) -> 37
A26: MO | B26: D | AB26: =SUM(C26:AA26) -> 0
A27: MT | B27: D | C27: 8 | D27: 239 | E27: 42 | F27: 97 | G27: 100 | H27: 21 | I27: 26 | J27: 1 | K27: 0 | L27: 75 | M27: 7 | N27: 16 | O27: 77 | P27: 98 | Q27: 44 | R27: 9 | S27: 31 | T27: 1 | U27: 16 | V27: 6 | W27: 4 | X27: 4 | Y27: 4 | Z27: 2 | AA27: 1 | AB27: =SUM(C27:AA27) -> 929
A28: NE | B28: D | C28: 14 | D28: 210 | E28: 36 | F28: 28 | G28: 55 | H28: 31 | I28: 32 | J28: 9 | K28: 3 | L28: 41 | M28: 3 | N28: 11 | O28: 95 | P28: 28 | Q28: 17 | R28: 6 | S28: 6 | T28: 3 | U28: 22 | V28: 0 | W28: 15 | X28: 2 | Y28: 3 | Z28: 20 | AA28: 7 | AB28: =SUM(C28:AA28) -> 697
A29: NV | B29: D | C29: 2 | D29: 22 | E29: 6 | F29: 22 | G29: 15 | H29: 9 | I29: 1 | J29: 0 | K29: 6 | L29: 6 | M29: 3 | N29: 6 | O29: 19 | P29: 18 | Q29: 1 | R29: 1 | S29: 4 | T29: 2 | U29: 8 | V29: 0 | W29: 6 | X29: 1 | Y29: 5 | Z29: 17 | AA29: 1 | AB29: =SUM(C29:AA29) -> 181
A30: NH | B30: D | C30: 7 | D30: 12 | E30: 9 | F30: 4 | G30: 13 | H30: 5 | I30: 6 | J30: 4 | K30: 0 | L30: 2 | M30: 2 | N30: 3 | O30: 6 | P30: 3 | Q30: 0 | R30: 1 | S30: 0 | T30: 0 | U30: 0 | V30: 0 | W30: 0 | X30: 1 | Y30: 1 | Z30: 3 | AA30: 6 | AB30: =SUM(C30:AA30) -> 88
A31: NJ | B31: D | AB31: =SUM(C31:AA31) -> 0
A32: NM | B32: D | C32: 12 | D32: 33 | E32: 6 | F32: 29 | G32: 15 | H32: 13 | I32: 9 | J32: 5 | K32: 17 | L32: 10 | M32: 8 | N32: 1 | O32: 16 | P32: 26 | Q32: 13 | R32: 9 | S32: 5 | T32: 0 | U32: 30 | V32: 0 | W32: 13 | X32: 0 | Y32: 0 | Z32: 17 | AA32: 11 | AB32: =SUM(C32:AA32) -> 298
A33: NY | B33: D | AB33: =SUM(C33:AA33) -> 0
A34: NC | B34: D | C34: 18 | D34: 63 | E34: 44 | F34: 27 | G34: 2 | H34: 14 | I34: 16 | J34: 24 | K34: 8 | L34: 17 | M34: 4 | N34: 2 | O34: 41 | P34: 35 | Q34: 0 | R34: 6 | S34: 6 | T34: 1 | U34: 5 | V34: 7 | W34: 13 | X34: 0 | Y34: 7 | Z34: 19 | AA34: 11 | AB34: =SUM(C34:AA34) -> 390
A35: ND | B35: D | AB35: =SUM(C35:AA35) -> 0
A36: OH | B36: D | AB36: =SUM(C36:AA36) -> 0
A37: OK | B37: D | AB37: =SUM(C37:AA37) -> 0
A38: OR | B38: D | C38: 3 | D38: 9 | E38: 4 | F38: 0 | G38: 1 | H38: 0 | I38: 0 | J38: 6 | K38: 0 | L38: 3 | M38: 0 | N38: 1 | O38: 8 | P38: 2 | Q38: 3 | R38: 0 | S38: 1 | T38: 0 | U38: 5 | V38: 0 | W38: 7 | X38: 0 | Y38: 0 | Z38: 3 | AA38: 2 | AB38: =SUM(C38:AA38) -> 58
A39: PA | B39: D | AB39: =SUM(C39:AA39) -> 0
A40: RI | B40: D | AB40: =SUM(C40:AA40) -> 0
...

Sheet pct
A1: State | B1: Party | C1: BDG | D1: Eco | E1: SWF | F1: Health | G1: PW | H1: VA | I1: LO | J1: Moral | K1: IM | L1: CR | M1: GM | N1: AB | O1: Edu | P1: Env | Q1: SFL | R1: CLT | S1: CF | T1: TR | U1: ND | V1: PTY | W1: CL | X1: GC | Y1: DR | Z1: Vote | AA1: OG
A2: AL | B2: D | C2: =counts!C2/counts!$AB2 -> 0.13888889 | D2: =counts!D2/counts!$AB2 -> 0.13888889 | E2: =counts!E2/counts!$AB2 -> 0.083333333 | F2: =counts!F2/counts!$AB2 -> 0.055555556 | G2: =counts!G2/counts!$AB2 -> 0.055555556 | H2: =counts!H2/counts!$AB2 -> 0 | I2: =counts!I2/counts!$AB2 -> 0.083333333 | J2: =counts!J2/counts!$AB2 -> 0.11111111 | ... AA2: =counts!AA2/counts!$AB2 -> 0.13888889
A3: AK | B3: D | C3: =counts!C3/counts!$AB3 -> 0.020833333 | D3: =counts!D3/counts!$AB3 -> 0.16666667 | E3: =counts!E3/counts!$AB3 -> 0.041666667 | F3: =counts!F3/counts!$AB3 -> 0.041666667 | G3: =counts!G3/counts!$AB3 -> 0.041666667 | H3: =counts!H3/counts!$AB3 -> 0.041666667 | I3: =counts!I3/counts!$AB3 -> 0.083333333 | J3: =counts!J3/counts!$AB3 -> 0.10416667 | ... AA3: =counts!AA3/counts!$AB3 -> 0.10416667
A4: AZ | B4: D | C4: =counts!C4/counts!$AB4 -> 0 | D4: =counts!D4/counts!$AB4 -> 0.084745763 | E4: =counts!E4/counts!$AB4 -> 0.050847458 | F4: =counts!F4/counts!$AB4 -> 0.06779661 | G4: =counts!G4/counts!$AB4 -> 0.06779661 | H4: =counts!H4/counts!$AB4 -> 0.033898305 | I4: =counts!I4/counts!$AB4 -> 0.06779661 | J4: =counts!J4/counts!$AB4 -> 0.13559322 | ... AA4: =counts!AA4/counts!$AB4 -> 0.033898305
A5: AR | B5: D | C5: =counts!C5/counts!$AB5 -> 0.026845638 | D5: =counts!D5/counts!$AB5 -> 0.11409396 | E5: =counts!E5/counts!$AB5 -> 0.067114094 | F5: =counts!F5/counts!$AB5 -> 0.12080537 | G5: =counts!G5/counts!$AB5 -> 0.046979866 | H5: =counts!H5/counts!$AB5 -> 0.073825503 | I5: =counts!I5/counts!$AB5 -> 0.033557047 | J5: =counts!J5/counts!$AB5 -> 0.053691275 | ... AA5: =counts!AA5/counts!$AB5 -> 0.046979866
A6: CA | B6: D | C6: =counts!C6/counts!$AB6 -> 0.0082304527 | D6: =counts!D6/counts!$AB6 -> 0.13374486 | E6: =counts!E6/counts!$AB6 -> 0.069958848 | F6: =counts!F6/counts!$AB6 -> 0.086419753 | G6: =counts!G6/counts!$AB6 -> 0.063786008 | H6: =counts!H6/counts!$AB6 -> 0.043209877 | I6: =counts!I6/counts!$AB6 -> 0.10699588 | J6: =counts!J6/counts!$AB6 -> 0.010288066 | ... AA6: =counts!AA6/counts!$AB6 -> 0.0020576132
A7: CO | B7: D | C7: =counts!C7/counts!$AB7 -> 0.016759777 | D7: =counts!D7/counts!$AB7 -> 0.1396648 | E7: =counts!E7/counts!$AB7 -> 0.019553073 | F7: =counts!F7/counts!$AB7 -> 0.10335196 | G7: =counts!G7/counts!$AB7 -> 0.069832402 | H7: =counts!H7/counts!$AB7 -> 0.011173184 | I7: =counts!I7/counts!$AB7 -> 0.055865922 | J7: =counts!J7/counts!$AB7 -> 0.0083798883 | ... AA7: =counts!AA7/counts!$AB7 -> 0.025139665
A8: CT | B8: D
A9: DE | B9: D
A10: FL | B10: D
A11: GA | B11: D
A12: HI | B12: D | C12: =counts!C12/counts!$AB12 -> 0.0050505051 | D12: =counts!D12/counts!$AB12 -> 0.22222222 | E12: =counts!E12/counts!$AB12 -> 0.055555556 | F12: =counts!F12/counts!$AB12 -> 0.04040404 | G12: =counts!G12/counts!$AB12 -> 0.1010101 | H12: =counts!H12/counts!$AB12 -> 0.035353535 | I12: =counts!I12/counts!$AB12 -> 0.0050505051 | J12: =counts!J12/counts!$AB12 -> 0.02020202 | ... AA12: =counts!AA12/counts!$AB12 -> 0.035353535
A13: ID | B13: D | C13: =counts!C13/counts!$AB13 -> 0.053846154 | D13: =counts!D13/counts!$AB13 -> 0.12307692 | E13: =counts!E13/counts!$AB13 -> 0.053846154 | F13: =counts!F13/counts!$AB13 -> 0.076923077 | G13: =counts!G13/counts!$AB13 -> 0.038461538 | H13: =counts!H13/counts!$AB13 -> 0.023076923 | I13: =counts!I13/counts!$AB13 -> 0.053846154 | J13: =counts!J13/counts!$AB13 -> 0.023076923 | ... AA13: =counts!AA13/counts!$AB13 -> 0.053846154
A14: IL | B14: D
A15: IN | B15: D | C15: =counts!C15/counts!$AB15 -> 0.014218009 | D15: =counts!D15/counts!$AB15 -> 0.33175355 | E15: =counts!E15/counts!$AB15 -> 0.047393365 | F15: =counts!F15/counts!$AB15 -> 0.023696682 | G15: =counts!G15/counts!$AB15 -> 0.10900474 | H15: =counts!H15/counts!$AB15 -> 0.033175355 | I15: =counts!I15/counts!$AB15 -> 0.0047393365 | J15: =counts!J15/counts!$AB15 -> 0.066350711 | ... AA15: =counts!AA15/counts!$AB15 -> 0.061611374
A16: IA | B16: D | C16: =counts!C16/counts!$AB16 -> 0.036016949 | D16: =counts!D16/counts!$AB16 -> 0.20550847 | E16: =counts!E16/counts!$AB16 -> 0.063559322 | F16: =counts!F16/counts!$AB16 -> 0.048728814 | G16: =counts!G16/counts!$AB16 -> 0.055084746 | H16: =counts!H16/counts!$AB16 -> 0.038135593 | I16: =counts!I16/counts!$AB16 -> 0.033898305 | J16: =counts!J16/counts!$AB16 -> 0.01059322 | ... AA16: =counts!AA16/counts!$AB16 -> 0.0021186441
A17: KS | B17: D | C17: =counts!C17/counts!$AB17 -> 0.075 | D17: =counts!D17/counts!$AB17 -> 0.275 | E17: =counts!E17/counts!$AB17 -> 0.08125 | F17: =counts!F17/counts!$AB17 -> 0.09375 | G17: =counts!G17/counts!$AB17 -> 0.0625 | H17: =counts!H17/counts!$AB17 -> 0.05 | I17: =counts!I17/counts!$AB17 -> 0.025 | J17: =counts!J17/counts!$AB17 -> 0.03125 | ... AA17: =counts!AA17/counts!$AB17 -> 0.01875
A18: KY | B18: D
A19: LA | B19: D
A20: ME | B20: D | C20: =counts!C70/counts!$AB20 -> 0.039735099 | D20: =counts!D70/counts!$AB20 -> 0.026490066 | E20: =counts!E70/counts!$AB20 -> 0.01986755 | F20: =counts!F70/counts!$AB20 -> 0.059602649 | G20: =counts!G70/counts!$AB20 -> 0.013245033 | H20: =counts!H70/counts!$AB20 -> 0 | I20: =counts!I70/counts!$AB20 -> 0.0066225166 | J20: =counts!J70/counts!$AB20 -> 0.1192053 | ... V20: =counts!V70/counts!$AB20 -> 0.0066225166 | W20: =counts!W20/counts!$AB20 -> 0.046357616 | X20: =counts!X20/counts!$AB20 -> 0 | Y20: =counts!Y20/counts!$AB20 -> 0 | Z20: =counts!Z20/counts!$AB20 -> 0.033112583 | AA20: =counts!AA20/counts!$AB20 -> 0.013245033
A21: MD | B21: D
A22: MA | B22: D | C22: =counts!C22/counts!$AB22 -> 0.055319149 | D22: =counts!D22/counts!$AB22 -> 0.11489362 | E22: =counts!E22/counts!$AB22 -> 0.063829787 | F22: =counts!F22/counts!$AB22 -> 0.05106383 | G22: =counts!G22/counts!$AB22 -> 0.085106383 | H22: =counts!H22/counts!$AB22 -> 0.012765957 | I22: =counts!I22/counts!$AB22 -> 0.063829787 | J22: =counts!J22/counts!$AB22 -> 0.012765957 | ... AA22: =counts!AA22/counts!$AB22 -> 0.055319149
A23: MI | B23: D
A24: MN | B24: D | C24: =counts!C24/counts!$AB24 -> 0.076923077 | D24: =counts!D24/counts!$AB24 -> 0.19909502 | E24: =counts!E24/counts!$AB24 -> 0.063348416 | F24: =counts!F24/counts!$AB24 -> 0.049773756 | G24: =counts!G24/counts!$AB24 -> 0.054298643 | H24: =counts!H24/counts!$AB24 -> 0.022624434 | I24: =counts!I24/counts!$AB24 -> 0.067873303 | J24: =counts!J24/counts!$AB24 -> 0 | ... AA24: =counts!AA24/counts!$AB24 -> 0.022624434
A25: MS | B25: D | C25: =counts!C25/counts!$AB25 -> 0 | D25: =counts!D25/counts!$AB25 -> 0.16216216 | E25: =counts!E25/counts!$AB25 -> 0.027027027 | F25: =counts!F25/counts!$AB25 -> 0.027027027 | G25: =counts!G25/counts!$AB25 -> 0 | H25: =counts!H25/counts!$AB25 -> 0.054054054 | I25: =counts!I25/counts!$AB25 -> 0.054054054 | J25: =counts!J25/counts!$AB25 -> 0 | ... AA25: =counts!AA25/counts!$AB25 -> 0
A26: MO | B26: D
A27: MT | B27: D | C27: =counts!C27/counts!$AB27 -> 0.0086114101 | D27: =counts!D27/counts!$AB27 -> 0.25726588 | E27: =counts!E27/counts!$AB27 -> 0.045209903 | F27: =counts!F27/counts!$AB27 -> 0.10441335 | G27: =counts!G27/counts!$AB27 -> 0.10764263 | H27: =counts!H27/counts!$AB27 -> 0.022604952 | I27: =counts!I27/counts!$AB27 -> 0.027987083 | J27: =counts!J27/counts!$AB27 -> 0.0010764263 | ... AA27: =counts!AA27/counts!$AB27 -> 0.0010764263
A28: NE | B28: D | C28: =counts!C28/counts!$AB28 -> 0.020086083 | D28: =counts!D28/counts!$AB28 -> 0.30129125 | E28: =counts!E28/counts!$AB28 -> 0.051649928 | F28: =counts!F28/counts!$AB28 -> 0.040172166 | G28: =counts!G28/counts!$AB28 -> 0.078909613 | H28: =counts!H28/counts!$AB28 -> 0.044476327 | I28: =counts!I28/counts!$AB28 -> 0.045911047 | J28: =counts!J28/counts!$AB28 -> 0.012912482 | ... AA28: =counts!AA28/counts!$AB28 -> 0.010043042
A29: NV | B29: D | C29: =counts!C29/counts!$AB29 -> 0.011049724 | D29: =counts!D29/counts!$AB29 -> 0.12154696 | E29: =counts!E29/counts!$AB29 -> 0.033149171 | F29: =counts!F29/counts!$AB29 -> 0.12154696 | G29: =counts!G29/counts!$AB29 -> 0.082872928 | H29: =counts!H29/counts!$AB29 -> 0.049723757 | I29: =counts!I29/counts!$AB29 -> 0.0055248619 | J29: =counts!J29/counts!$AB29 -> 0 | ... AA29: =counts!AA29/counts!$AB29 -> 0.0055248619
A30: NH | B30: D | C30: =counts!C30/counts!$AB30 -> 0.079545455 | D30: =counts!D30/counts!$AB30 -> 0.13636364 | E30: =counts!E30/counts!$AB30 -> 0.10227273 | F30: =counts!F30/counts!$AB30 -> 0.045454545 | G30: =counts!G30/counts!$AB30 -> 0.14772727 | H30: =counts!H30/counts!$AB30 -> 0.056818182 | I30: =counts!I30/counts!$AB30 -> 0.068181818 | J30: =counts!J30/counts!$AB30 -> 0.045454545 | ... AA30: =counts!AA30/counts!$AB30 -> 0.068181818
A31: NJ | B31: D
A32: NM | B32: D | C32: =counts!C32/counts!$AB32 -> 0.040268456 | D32: =counts!D32/counts!$AB32 -> 0.11073826 | E32: =counts!E32/counts!$AB32 -> 0.020134228 | F32: =counts!F32/counts!$AB32 -> 0.097315436 | G32: =counts!G32/counts!$AB32 -> 0.05033557 | H32: =counts!H32/counts!$AB32 -> 0.043624161 | I32: =counts!I32/counts!$AB32 -> 0.030201342 | J32: =counts!J32/counts!$AB32 -> 0.016778523 | ... AA32: =counts!AA32/counts!$AB32 -> 0.036912752
A33: NY | B33: D
A34: NC | B34: D | C34: =counts!C34/counts!$AB34 -> 0.046153846 | D34: =counts!D34/counts!$AB34 -> 0.16153846 | E34: =counts!E34/counts!$AB34 -> 0.11282051 | F34: =counts!F34/counts!$AB34 -> 0.069230769 | G34: =counts!G34/counts!$AB34 -> 0.0051282051 | H34: =counts!H34/counts!$AB34 -> 0.035897436 | I34: =counts!I34/counts!$AB34 -> 0.041025641 | J34: =counts!J34/counts!$AB34 -> 0.061538462 | ... AA34: =counts!AA34/counts!$AB34 -> 0.028205128
A35: ND | B35: D
A36: OH | B36: D
A37: OK | B37: D
A38: OR | B38: D | C38: =counts!C38/counts!$AB38 -> 0.051724138 | D38: =counts!D38/counts!$AB38 -> 0.15517241 | E38: =counts!E38/counts!$AB38 -> 0.068965517 | F38: =counts!F38/counts!$AB38 -> 0 | G38: =counts!G38/counts!$AB38 -> 0.017241379 | H38: =counts!H38/counts!$AB38 -> 0 | I38: =counts!I38/counts!$AB38 -> 0 | J38: =counts!J38/counts!$AB38 -> 0.10344828 | ... AA38: =counts!AA38/counts!$AB38 -> 0.034482759
A39: PA | B39: D
A40: RI | B40: D
...
