Workbook

Sheet counts
A1: State | B1: Party | C1: BDG | D1: Eco | E1: SWF | F1: Health | G1: PW | H1: VA | I1: LO | J1: Moral | K1: IM | L1: CR | M1: GM | N1: AB | O1: Edu | P1: Env | Q1: SFL | R1: CLT | S1: CF | T1: TR | U1: ND | V1: PTY | W1: CL | X1: GC | Y1: DR | Z1: Vote | AA1: OG | AB1: Sentences
A2: AL | B2: D | C2: 5 | D2: 5 | E2: 3 | F2: 2 | G2: 2 | H2: 0 | I2: 3 | J2: 4 | K2: 0 | L2: 0 | M2: 0 | N2: 0 | O2: 2 | P2: 4 | Q2: 0 | R2: 0 | S2: 0 | T2: 0 | U2: 0 | V2: 0 | W2: 0 | X2: 0 | Y2: 0 | Z2: 1 | AA2: 5 | AB2: =SUM(C2:AA2) -> 36
A3: AK | B3: D | C3: 1 | D3: 8 | E3: 2 | F3: 2 | G3: 2 | H3: 2 | I3: 4 | J3: 5 | K3: 0 | L3: 3 | M3: 0 | N3: 0 | O3: 2 | P3: 5 | Q3: 1 | R3: 0 | S3: 0 | T3: 0 | U3: 3 | V3: 0 | W3: 2 | X3: 0 | Y3: 0 | Z3: 1 | AA3: 5 | AB3: =SUM(C3:AA3) -> 48
A4: AZ | B4: D | C4: 0 | D4: 5 | E4: 3 | F4: 4 | G4: 4 | H4: 2 | I4: 4 | J4: 8 | K4: 1 | L4: 11 | M4: 0 | N4: 1 | O4: 5 | P4: 2 | Q4: 0 | R4: 0 | S4: 2 | T4: 1 | U4: 0 | V4: 2 | W4: 2 | X4: 0 | Y4: 0 | Z4: 0 | AA4: 2 | AB4: =SUM(C4:AA4) -> 59
A5: AR | B5: D | C5: 4 | D5: 17 | E5: 10 | F5: 18 | G5: 7 | H5: 11 | I5: 5 | J5: 8 | K5: 4 | L5: 11 | M5: 0 | N5: 1 | O5: 20 | P5: 11 | Q5: 0 | R5: 0 | S5: 0 | T5: 0 | U5: 2 | V5: 5 | W5: 4 | X5: 2 | Y5: 1 | Z5: 1 | AA5: 7 | AB5: =SUM(C5:AA5) -> 149
A6: CA | B6: D | C6: 4 | D6: 65 | E6: 34 | F6: 42 | G6: 31 | H6: 21 | I6: 52 | J6: 5 | K6: 34 | L6: 31 | M6: 4 | N6: 6 | O6: 27 | P6: 15 | Q6: 1 | R6: 9 | S6: 4 | T6: 11 | U6: 56 | V6: 0 | W6: 9 | X6: 3 | Y6: 2 | Z6: 19 | AA6: 1 | AB6: =SUM(C6:AA6) -> 486
A7: CO | B7: D | C7: 12 | D7: 100 | E7: 14 | F7: 74 | G7: 50 | H7: 8 | I7: 40 | J7: 6 | K7: 38 | L7: 19 | M7: 6 | N7: 5 | O7: 48 | P7: 74 | Q7: 0 | R7: 12 | S7: 39 | T7: 33 | U7: 59 | V7: 5 | W7: 16 | X7: 2 | Y7: 4 | Z7: 34 | AA7: 18 | AB7: =SUM(C7:AA7) -> 716
A8: CT | B8: D
A9: DE | B9: D
A10: FL | B10: D
A11: GA | B11: D
A12: HI | B12: D | C12: 1 | D12: 44 | E12: 11 | F12: 8 | G12: 20 | H12: 7 | I12: 1 | J12: 4 | K12: 7 | L12: 15 | M12: 2 | N12: 2 | O12: 16 | P12: 25 | Q12: 3 | R12: 4 | S12: 4 | T12: 0 | U12: 9 | V12: 0 | W12: 4 | X12: 0 | Y12: 1 | Z12: 3 | AA12: 7 | AB12: =SUM(C12:AA12) -> 198
A13: ID | B13: D | C13: 7 | D13: 16 | E13: 7 | F13: 10 | G13: 5 | H13: 3 | I13: 7 | J13: 3 | K13: 1 | L13: 6 | M13: 1 | N13: 5 | O13: 15 | P13: 10 | Q13: 4 | R13: 2 | S13: 1 | T13: 0 | U13: 3 | V13: 3 | W13: 2 | X13: 1 | Y13: 3 | Z13: 8 | AA13: 7 | AB13: =SUM(C13:AA13) -> 130
A14: IL | B14: D
A15: IN | B15: D | C15: 3 | D15: 70 | E15: 10 | F15: 5 | G15: 23 | H15: 7 | I15: 1 | J15: 14 | K15: 0 | L15: 29 | M15: 1 | N15: 1 | O15: 15 | P15: 9 | Q15: 2 | R15: 0 | S15: 0 | T15: 0 | U15: 0 | V15: 2 | W15: 0 | X15: 0 | Y15: 1 | Z15: 5 | AA15: 13 | AB15: =SUM(C15:AA15) -> 211
A16: IA | B16: D | C16: 17 | D16: 97 | E16: 30 | F16: 23 | G16: 26 | H16: 18 | I16: 16 | J16: 5 | K16: 18 | L16: 20 | M16: 11 | N16: 7 | O16: 51 | P16: 29 | Q16: 0 | R16: 8 | S16: 7 | T16: 6 | U16: 58 | V16: 0 | W16: 11 | X16: 2 | Y16: 2 | Z16: 9 | AA16: 1 | AB16: =SUM(C16:AA16) -> 472
A17: KS | B17: D | C17: 12 | D17: 44 | E17: 13 | F17: 15 | G17: 10 | H17: 8 | I17: 4 | J17: 5 | K17: 0 | L17: 7 | M17: 0 | N17: 0 | O17: 21 | P17: 10 | Q17: 0 | R17: 0 | S17: 2 | T17: 0 | U17: 0 | V17: 0 | W17: 0 | X17: 0 | Y17: 0 | Z17: 6 | AA17: 3 | AB17: =SUM(C17:AA17) -> 160
A18: KY | B18: D | AB18: =SUM(C18:AA18) -> 0
A19: LA | B19: D | AB19: =SUM(C19:AA19) -> 0
A20: ME | B20: D | C20: 0 | D20: 34 | E20: 18 | F20: 7 | G20: 3 | H20: 0 | I20: 2 | J20: 4 | K20: 1 | L20: 5 | M20: 1 | N20: 2 | O20: 8 | P20: 20 | Q20: 2 | R20: 1 | S20: 2 | T20: 1 | U20: 24 | V20: 2 | W20: 7 | X20: 0 | Y20: 0 | Z20: 5 | AA20: 2 | AB20: =SUM(C20:AA20) -> 151
A21: MD | B21: D | AB21: =SUM(C21:AA21) -> 0
A22: MA | B22: D | C22: 13 | D22: 27 | E22: 15 | F22: 12 | G22: 20 | H22: 3 | I22: 15 | J22: 3 | K22: 14 | L22: 12 | M22: 1 | N22: 5 | O22: 24 | P22: 36 | Q22: 1 | R22: 0 | S22: 3 | T22: 0 | U22: 1 | V22: 0 | W22: 2 | X22: 1 | Y22: 1 | Z22: 13 | AA22: 13 | AB22: =SUM(C22:AA22) -> 235
A23: MI | B23: D | AB23: =SUM(C23:AA23) -> 0
A24: MN | B24: D | C24: 17 | D24: 44 | E24: 14 | F24: 11 | G24: 12 | H24: 5 | I24: 15 | J24: 0 | K24: 4 | L24: 7 | M24: 3 | N24: 2 | O24: 20 | P24: 18 | Q24: 5 | R24: 0 | S24: 8 | T24: 2 | U24: 16 | V24: 0 | W24: 7 | X24: 3 | Y24: 2 | Z24: 1 | AA24: 5 | AB24: =SUM(C24:AA24) -> 221
A25: MS | B25: D | C25: 0 | D25: 6 | E25: 1 | F25: 1 | G25: 0 | H25: 2 | I25: 2 | J25: 0 | K25: 3 | L25: 1 | M25: 2 | N25: 5 | O25: 3 | P25: 3 | Q25: 0 | R25: 0 | S25: 1 | T25: 0 | U25: 0 | V25: 3 | W25: 0 | X25: 0 | Y25: 0 | Z25: 4 | AA25: 0 | AB25: =SUM(C25:AA25) -> 37
A26: MO | B26: D | AB26: =SUM(C26:AA26) -> 0
A27: MT | B27: D | C27: 8 | D27: 239 | E27: 42 | F27: 97 | G27: 100 | H27: 21 | I27: 26 | J27: 1 | K27: 0 | L27: 75 | M27: 7 | N27: 16 | O27: 77 | P27: 98 | Q27: 44 | R27: 9 | S27: 31 | T27: 1 | U27: 16 | V27: 6 | W27: 4 | X27: 4 | Y27: 4 | Z27: 2 | AA27: 1 | AB27: =SUM(C27:AA27) -> 929
A28: NE | B28: D | C28: 14 | D28: 210 | E28: 36 | F28: 28 | G28: 55 | H28: 31 | I28: 32 | J28: 9 | K28: 3 | L28: 41 | M28: 3 | N28: 11 | O28: 95 | P28: 28 | Q28: 17 | R28: 6 | S28: 6 | T28: 3 | U28: 22 | V28: 0 | W28: 15 | X28: 2 | Y28: 3 | Z28: 20 | AA28: 7 | AB28: =SUM(C28:AA28) -> 697
A29: NV | B29: D | C29: 2 | D29: 22 | E29: 6 | F29: 22 | G29: 15 | H29: 9 | I29: 1 | J29: 0 | K29: 6 | L29: 6 | M29: 3 | N29: 6 | O29: 19 | P29: 18 | Q29: 1 | R29: 1 | S29: 4 | T29: 2 | U29: 8 | V29: 0 | W29: 6 | X29: 1 | Y29: 5 | Z29: 17 | AA29: 1 | AB29: =SUM(C29:AA29) -> 181
A30: NH | B30: D | C30: 7 | D30: 12 | E30: 9 | F30: 4 | G30: 13 | H30: 5 | I30: 6 | J30: 4 | K30: 0 | L30: 2 | M30: 2 | N30: 3 | O30: 6 | P30: 3 | Q30: 0 | R30: 1 | S30: 0 | T30: 0 | U30: 0 | V30: 0 | W30: 0 | X30: 1 | Y30: 1 | Z30: 3 | AA30: 6 | AB30: =SUM(C30:AA30) -> 88
A31: NJ | B31: D | AB31: =SUM(C31:AA31) -> 0
A32: NM | B32: D | C32: 12 | D32: 33 | E32: 6 | F32: 29 | G32: 15 | H32: 13 | I32: 9 | J32: 5 | K32: 17 | L32: 10 | M32: 8 | N32: 1 | O32: 16 | P32: 26 | Q32: 13 | R32: 9 | S32: 5 | T32: 0 | U32: 30 | V32: 0 | W32: 13 | X32: 0 | Y32: 0 | Z32: 17 | AA32: 11 | AB32: =SUM(C32:AA32) -> 298
A33: NY | B33: D | AB33: =SUM(C33:AA33) -> 0
A34: NC | B34: D | C34: 18 | D34: 63 | E34: 44 | F34: 27 | G34: 2 | H34: 14 | I34: 16 | J34: 24 | K34: 8 | L34: 17 | M34: 4 | N34: 2 | O34: 41 | P34: 35 | Q34: 0 | R34: 6 | S34: 6 | T34: 1 | U34: 5 | V34: 7 | W34: 13 | X34: 0 | Y34: 7 | Z34: 19 | AA34: 11 | AB34: =SUM(C34:AA34) -> 390
A35: ND | B35: D | AB35: =SUM(C35:AA35) -> 0
A36: OH | B36: D | AB36: =SUM(C36:AA36) -> 0
A37: OK | B37: D | AB37: =SUM(C37:AA37) -> 0
A38: OR | B38: D | C38: 3 | D38: 9 | E38: 4 | F38: 0 | G38: 1 | H38: 0 | I38: 0 | J38: 6 | K38: 0 | L38: 3 | M38: 0 | N38: 1 | O38: 8 | P38: 2 | Q38: 3 | R38: 0 | S38: 1 | T38: 0 | U38: 5 | V38: 0 | W38: 7 | X38: 0 | Y38: 0 | Z38: 3 | AA38: 2 | AB38: =SUM(C38:AA38) -> 58
A39: PA | B39: D | AB39: =SUM(C39:AA39) -> 0
A40: RI | B40: D | AB40: =SUM(C40:AA40) -> 0
A41: SC | B41: D | C41: 1 | O41: 11 | P41: 6 | Z41: 1 | AB41: =SUM(C41:AA41) -> 19
A42: SD | B42: D | C42: 1 | D42: 28 | E42: 11 | F42: 4 | G42: 0 | H42: 5 | I42: 1 | J42: 0 | K42: 0 | L42: 5 | M42: 0 | N42: 0 | O42: 8 | P42: 1 | Q42: 4 | R42: 0 | S42: 0 | T42: 0 | U42: 0 | V42: 0 | W42: 0 | X42: 0 | Y42: 0 | Z42: 0 | AA42: 0 | AB42: =SUM(C42:AA42) -> 68
A43: TN | B43: D | AB43: =SUM(C43:AA43) -> 0
A44: TX | B44: D | C44: 27 | D44: 103 | E44: 84 | F44: 75 | G44: 48 | H44: 36 | I44: 92 | J44: 2 | K44: 26 | L44: 13 | M44: 15 | N44: 20 | O44: 122 | P44: 70 | Q44: 0 | R44: 1 | S44: 11 | T44: 0 | U44: 38 | V44: 0 | W44: 21 | X44: 7 | Y44: 21 | Z44: 37 | AA44: 7 | AB44: =SUM(C44:AA44) -> 876
A45: UT | B45: D | C45: 16 | D45: 24 | E45: 9 | F45: 10 | G45: 8 | H45: 14 | I45: 6 | J45: 7 | K45: 4 | L45: 5 | M45: 0 | N45: 1 | O45: 12 | P45: 27 | Q45: 0 | R45: 5 | S45: 2 | T45: 1 | U45: 20 | V45: 0 | W45: 7 | X45: 2 | Y45: 0 | Z45: 20 | AA45: 7 | AB45: =SUM(C45:AA45) -> 207
A46: VT | B46: D | C46: 5 | D46: 21 | E46: 18 | F46: 10 | G46: 9 | H46: 1 | I46: 5 | J46: 1 | K46: 0 | L46: 4 | M46: 4 | N46: 2 | O46: 4 | P46: 24 | Q46: 1 | R46: 0 | S46: 2 | T46: 0 | U46: 10 | V46: 0 | W46: 2 | X46: 0 | Y46: 1 | Z46: 3 | AA46: 10 | AB46: =SUM(C46:AA46) -> 137
A47: VA | B47: D | AB47: =SUM(C47:AA47) -> 0
A48: WA | B48: D | C48: 13 | D48: 124 | E48: 35 | F48: 19 | G48: 16 | H48: 21 | I48: 28 | J48: 7 | K48: 19 | L48: 10 | M48: 4 | N48: 5 | O48: 42 | P48: 31 | Q48: 23 | R48: 25 | S48: 11 | T48: 1 | U48: 47 | V48: 0 | W48: 21 | X48: 8 | Y48: 4 | Z48: 11 | AA48: 2 | AB48: =SUM(C48:AA48) -> 527
A49: WV | B49: D | C49: 3 | D49: 32 | E49: 18 | F49: 21 | G49: 7 | H49: 10 | I49: 7 | J49: 5 | K49: 1 | L49: 7 | M49: 0 | N49: 7 | O49: 28 | P49: 5 | Q49: 0 | R49: 1 | S49: 0 | T49: 0 | U49: 3 | V49: 0 | W49: 0 | X49: 2 | Y49: 1 | Z49: 6 | AA49: 5 | AB49: =SUM(C49:AA49) -> 169
A50: WI | B50: D | C50: 4 | D50: 26 | E50: 12 | F50: 6 | G50: 1 | H50: 2 | I50: 5 | J50: 1 | K50: 3 | L50: 4 | M50: 1 | N50: 3 | O50: 10 | P50: 17 | Q50: 1 | R50: 7 | S50: 3 | T50: 0 | U50: 17 | V50: 3 | W50: 8 | X50: 2 | Y50: 4 | Z50: 6 | AA50: 5 | AB50: =SUM(C50:AA50) -> 151
A51: WY | B51: D | C51: 2 | D51: 12 | E51: 5 | F51: 3 | G51: 3 | H51: 4 | I51: 2 | J51: 2 | K51: 1 | L51: 3 | M51: 0 | N51: 1 | O51: 4 | P51: 9 | Q51: 1 | R51: 0 | S51: 3 | T51: 0 | U51: 3 | V51: 1 | W51: 4 | X51: 2 | Y51: 1 | Z51: 2 | AA51: 5 | AB51: =SUM(C51:AA51) -> 73
A52: AL | B52: R | C52: 10 | D52: 16 | E52: 5 | F52: 0 | G52: 0 | H52: 2 | I52: 1 | J52: 1 | K52: 3 | L52: 0 | M52: 10 | N52: 14 | O52: 6 | P52: 4 | Q52: 7 | R52: 0 | S52: 0 | T52: 0 | U52: 3 | V52: 4 | W52: 0 | X52: 0 | Y52: 1 | Z52: 1 | AA52: 9 | AB52: =SUM(C52:AA52) -> 97
A53: AK | B53: R | C53: 4 | D53: 10 | E53: 1 | F53: 12 | G53: 3 | H53: 2 | I53: 8 | J53: 4 | K53: 3 | L53: 0 | M53: 2 | N53: 5 | O53: 18 | P53: 12 | Q53: 7 | R53: 1 | S53: 0 | T53: 1 | U53: 6 | V53: 1 | W53: 9 | X53: 3 | Y53: 1 | Z53: 0 | AA53: 2 | AB53: =SUM(C53:AA53) -> 115
A54: AZ | B54: R | C54: 3 | D54: 11 | E54: 1 | F54: 5 | G54: 0 | H54: 4 | I54: 7 | J54: 9 | K54: 9 | L54: 1 | M54: 1 | N54: 2 | O54: 8 | P54: 0 | Q54: 5 | R54: 0 | S54: 0 | T54: 3 | U54: 0 | V54: 6 | W54: 1 | X54: 1 | Y54: 5 | Z54: 1 | AA54: 5 | AB54: =SUM(C54:AA54) -> 88
A55: AR | B55: R | C55: 31 | D55: 64 | E55: 5 | F55: 29 | G55: 13 | H55: 6 | I55: 35 | J55: 6 | K55: 30 | L55: 8 | M55: 4 | N55: 12 | O55: 31 | P55: 8 | Q55: 8 | R55: 1 | S55: 3 | T55: 6 | U55: 12 | V55: 2 | W55: 16 | X55: 8 | Y55: 21 | Z55: 15 | AA55: 7 | AB55: =SUM(C55:AA55) -> 381
A56: CA | B56: R | C56: 19 | D56: 23 | E56: 10 | F56: 5 | G56: 7 | H56: 5 | I56: 25 | J56: 8 | K56: 21 | L56: 7 | M56: 3 | N56: 7 | O56: 15 | P56: 11 | Q56: 9 | R56: 0 | S56: 0 | T56: 3 | U56: 8 | V56: 0 | W56: 4 | X56: 8 | Y56: 0 | Z56: 0 | AA56: 4 | AB56: =SUM(C56:AA56) -> 202
A57: CO | B57: R | C57: 4 | D57: 3 | E57: 3 | F57: 7 | G57: 2 | H57: 1 | I57: 0 | J57: 1 | K57: 6 | L57: 0 | M57: 1 | N57: 4 | O57: 2 | P57: 3 | Q57: 7 | R57: 0 | S57: 2 | T57: 1 | U57: 3 | V57: 1 | W57: 2 | X57: 1 | Y57: 0 | Z57: 1 | AA57: 1 | AB57: =SUM(C57:AA57) -> 56
A58: CT | B58: R | AB58: =SUM(C58:AA58) -> 0
A59: DE | B59: R | AB59: =SUM(C59:AA59) -> 0
A60: FL | B60: R | AB60: =SUM(C60:AA60) -> 0
A61: GA | B61: R | AB61: =SUM(C61:AA61) -> 0
A62: HI | B62: R | C62: 2 | D62: 3 | E62: 1 | F62: 0 | G62: 0 | H62: 0 | I62: 0 | J62: 4 | K62: 0 | L62: 2 | M62: 0 | N62: 0 | O62: 0 | P62: 0 | Q62: 0 | R62: 0 | S62: 0 | T62: 0 | U62: 0 | V62: 0 | W62: 6 | X62: 0 | Y62: 0 | Z62: 0 | AA62: 0 | AB62: =SUM(C62:AA62) -> 18
A63: ID | B63: R | C63: 30 | D63: 21 | E63: 11 | F63: 12 | G63: 27 | H63: 2 | I63: 9 | J63: 2 | K63: 0 | L63: 1 | M63: 1 | N63: 7 | O63: 26 | P63: 23 | Q63: 16 | R63: 0 | S63: 0 | T63: 2 | U63: 9 | V63: 1 | W63: 5 | X63: 6 | Y63: 3 | Z63: 8 | AA63: 6 | AB63: =SUM(C63:AA63) -> 228
A64: IL | B64: R | AB64: =SUM(C64:AA64) -> 0
A65: IN | B65: R | C65: 33 | D65: 26 | E65: 7 | F65: 8 | G65: 13 | H65: 9 | I65: 6 | J65: 16 | K65: 0 | L65: 1 | M65: 0 | N65: 1 | O65: 14 | P65: 5 | Q65: 7 | R65: 1 | S65: 0 | T65: 0 | U65: 0 | V65: 16 | W65: 7 | X65: 1 | Y65: 0 | Z65: 3 | AA65: 0 | AB65: =SUM(C65:AA65) -> 174
A66: IA | B66: R | C66: 59 | D66: 61 | E66: 20 | F66: 28 | G66: 35 | H66: 4 | I66: 21 | J66: 13 | K66: 28 | L66: 2 | M66: 13 | N66: 31 | O66: 49 | P66: 22 | Q66: 53 | R66: 3 | S66: 1 | T66: 7 | U66: 21 | V66: 9 | W66: 32 | X66: 12 | Y66: 0 | Z66: 20 | AA66: 3 | AB66: =SUM(C66:AA66) -> 547
A67: KS | B67: R | C67: 20 | D67: 9 | E67: 3 | F67: 7 | G67: 14 | H67: 0 | I67: 10 | J67: 14 | K67: 19 | L67: 3 | M67: 5 | N67: 13 | O67: 18 | P67: 4 | Q67: 10 | R67: 0 | S67: 0 | T67: 0 | U67: 3 | V67: 2 | W67: 8 | X67: 9 | Y67: 0 | Z67: 2 | AA67: 0 | AB67: =SUM(C67:AA67) -> 173
A68: KY | B68: R | AB68: =SUM(C68:AA68) -> 0
A69: LA | B69: R | AB69: =SUM(C69:AA69) -> 0
A70: ME | B70: R | C70: 6 | D70: 4 | E70: 3 | F70: 9 | G70: 2 | H70: 0 | I70: 1 | J70: 18 | K70: 4 | L70: 0 | M70: 1 | N70: 1 | O70: 1 | P70: 1 | Q70: 16 | R70: 0 | S70: 0 | T70: 0 | U70: 5 | V70: 1 | W70: 3 | X70: 2 | Y70: 0 | Z70: 6 | AA70: 2 | AB70: =SUM(C70:AA70) -> 86
A71: MD | B71: R | AB71: =SUM(C71:AA71) -> 0
A72: MA | B72: R | C72: 25 | D72: 25 | E72: 0 | F72: 31 | G72: 22 | H72: 1 | I72: 5 | J72: 10 | K72: 7 | L72: 4 | M72: 0 | N72: 0 | O72: 36 | P72: 24 | Q72: 11 | R72: 0 | S72: 0 | T72: 0 | U72: 1 | V72: 1 | W72: 21 | X72: 1 | Y72: 0 | Z72: 4 | AA72: 12 | AB72: =SUM(C72:AA72) -> 241
A73: MI | B73: R | AB73: =SUM(C73:AA73) -> 0
A74: MN | B74: R | C74: 23 | D74: 15 | E74: 7 | F74: 21 | G74: 0 | H74: 3 | I74: 18 | J74: 11 | K74: 10 | L74: 5 | M74: 3 | N74: 14 | O74: 37 | P74: 18 | Q74: 24 | R74: 0 | S74: 4 | T74: 2 | U74: 12 | V74: 10 | W74: 14 | X74: 4 | Y74: 2 | Z74: 13 | AA74: 2 | AB74: =SUM(C74:AA74) -> 272
A75: MS | B75: R | C75: 15 | D75: 4 | E75: 0 | F75: 7 | G75: 6 | H75: 2 | I75: 6 | J75: 3 | K75: 6 | L75: 1 | M75: 1 | N75: 1 | O75: 16 | P75: 7 | Q75: 0 | R75: 0 | S75: 0 | T75: 0 | U75: 1 | V75: 0 | W75: 0 | X75: 2 | Y75: 1 | Z75: 3 | AA75: 5 | AB75: =SUM(C75:AA75) -> 87
A76: MO | B76: R | AB76: =SUM(C76:AA76) -> 0
A77: MT | B77: R | C77: 5 | D77: 24 | E77: 10 | F77: 2 | G77: 46 | H77: 1 | I77: 23 | J77: 0 | K77: 5 | L77: 0 | M77: 2 | N77: 9 | O77: 13 | P77: 15 | Q77: 28 | R77: 0 | S77: 0 | T77: 0 | U77: 8 | V77: 1 | W77: 8 | X77: 6 | Y77: 5 | Z77: 5 | AA77: 2 | AB77: =SUM(C77:AA77) -> 218
A78: NE | B78: R | C78: 19 | D78: 22 | E78: 16 | F78: 13 | G78: 8 | H78: 7 | I78: 6 | J78: 2 | K78: 5 | L78: 7 | M78: 2 | N78: 16 | O78: 15 | P78: 9 | Q78: 9 | R78: 1 | S78: 0 | T78: 2 | U78: 12 | V78: 0 | W78: 6 | X78: 2 | Y78: 4 | Z78: 7 | AA78: 1 | AB78: =SUM(C78:AA78) -> 191
A79: NV | B79: R | C79: 15 | D79: 0 | E79: 0 | F79: 5 | G79: 16 | H79: 2 | I79: 0 | J79: 0 | K79: 9 | L79: 0 | M79: 1 | N79: 10 | O79: 2 | P79: 5 | Q79: 22 | R79: 0 | S79: 0 | T79: 0 | U79: 12 | V79: 0 | W79: 7 | X79: 2 | Y79: 0 | Z79: 4 | AA79: 0 | AB79: =SUM(C79:AA79) -> 112
A80: NH | B80: R | C80: 14 | D80: 18 | E80: 1 | F80: 7 | G80: 2 | H80: 3 | I80: 2 | J80: 7 | K80: 3 | L80: 1 | M80: 1 | N80: 5 | O80: 21 | P80: 6 | Q80: 7 | R80: 0 | S80: 0 | T80: 0 | U80: 4 | V80: 2 | W80: 3 | X80: 7 | Y80: 0 | Z80: 5 | AA80: 0 | AB80: =SUM(C80:AA80) -> 119
A81: NJ | B81: R | AB81: =SUM(C81:AA81) -> 0
A82: NM | B82: R | C82: 0 | D82: 9 | E82: 0 | F82: 3 | G82: 0 | H82: 0 | I82: 4 | J82: 5 | K82: 2 | L82: 1 | M82: 2 | N82: 2 | O82: 2 | P82: 2 | Q82: 0 | R82: 0 | S82: 0 | T82: 2 | U82: 0 | V82: 0 | W82: 0 | X82: 1 | Y82: 5 | Z82: 2 | AA82: 0 | AB82: =SUM(C82:AA82) -> 42
A83: NY | B83: R | AB83: =SUM(C83:AA83) -> 0
A84: NC | B84: R | C84: 18 | D84: 10 | E84: 16 | F84: 10 | G84: 2 | H84: 0 | I84: 15 | J84: 1 | K84: 6 | L84: 0 | M84: 0 | N84: 22 | O84: 32 | P84: 10 | Q84: 5 | R84: 0 | S84: 2 | T84: 0 | U84: 13 | V84: 0 | W84: 11 | X84: 4 | Y84: 1 | Z84: 11 | AA84: 4 | AB84: =SUM(C84:AA84) -> 193
A85: ND | B85: R | AB85: =SUM(C85:AA85) -> 0
A86: OH | B86: R | AB86: =SUM(C86:AA86) -> 0
A87: OK | B87: R | AB87: =SUM(C87:AA87) -> 0
A88: OR | B88: R | C88: 3 | D88: 7 | E88: 6 | F88: 8 | G88: 0 | H88: 1 | I88: 13 | J88: 5 | K88: 8 | L88: 2 | M88: 0 | N88: 2 | O88: 16 | P88: 20 | Q88: 4 | R88: 0 | S88: 0 | T88: 6 | U88: 11 | V88: 0 | W88: 2 | X88: 5 | Y88: 0 | Z88: 12 | AA88: 1 | AB88: =SUM(C88:AA88) -> 132
A89: PA | B89: R | AB89: =SUM(C89:AA89) -> 0
A90: RI | B90: R | AB90: =SUM(C90:AA90) -> 0
A91: SC | B91: R | AB91: =SUM(C91:AA91) -> 0
A92: SD | B92: R | AB92: =SUM(C92:AA92) -> 0
A93: TN | B93: R | AB93: =SUM(C93:AA93) -> 0
A94: TX | B94: R | C94: 64 | D94: 31 | E94: 38 | F94: 13 | G94: 27 | H94: 13 | I94: 29 | J94: 9 | K94: 27 | L94: 7 | M94: 16 | N94: 62 | O94: 71 | P94: 16 | Q94: 52 | R94: 5 | S94: 2 | T94: 12 | U94: 21 | V94: 5 | W94: 42 | X94: 12 | Y94: 8 | Z94: 30 | AA94: 6 | AB94: =SUM(C94:AA94) -> 618
A95: UT | B95: R | C95: 3 | D95: 7 | E95: 3 | F95: 0 | G95: 0 | H95: 0 | I95: 4 | J95: 7 | K95: 9 | L95: 2 | M95: 0 | N95: 4 | O95: 6 | P95: 7 | Q95: 7 | R95: 0 | S95: 0 | T95: 0 | U95: 3 | V95: 0 | W95: 8 | X95: 2 | Y95: 0 | Z95: 0 | AA95: 2 | AB95: =SUM(C95:AA95) -> 74
A96: VT | B96: R | C96: 12 | D96: 14 | E96: 6 | F96: 4 | G96: 8 | H96: 2 | I96: 5 | J96: 14 | K96: 1 | L96: 4 | M96: 0 | N96: 0 | O96: 15 | P96: 6 | Q96: 14 | R96: 0 | S96: 1 | T96: 0 | U96: 0 | V96: 4 | W96: 2 | X96: 4 | Y96: 0 | Z96: 2 | AA96: 0 | AB96: =SUM(C96:AA96) -> 118
A97: VA | B97: R | AB97: =SUM(C97:AA97) -> 0
A98: WA | B98: R | C98: 4 | D98: 10 | E98: 1 | F98: 5 | G98: 6 | H98: 1 | I98: 3 | J98: 8 | K98: 4 | L98: 0 | M98: 1 | N98: 2 | O98: 8 | P98: 7 | Q98: 7 | R98: 0 | S98: 0 | T98: 0 | U98: 12 | V98: 0 | W98: 9 | X98: 2 | Y98: 0 | Z98: 4 | AA98: 0 | AB98: =SUM(C98:AA98) -> 94
A99: WV | B99: R | C99: 17 | D99: 15 | E99: 19 | F99: 3 | G99: 10 | H99: 7 | I99: 8 | J99: 4 | K99: 3 | L99: 1 | M99: 3 | N99: 6 | O99: 18 | P99: 3 | Q99: 10 | R99: 1 | S99: 0 | T99: 1 | U99: 2 | V99: 1 | W99: 8 | X99: 12 | Y99: 2 | Z99: 21 | AA99: 4 | AB99: =SUM(C99:AA99) -> 179
A100: WI | B100: R | C100: 20 | D100: 12 | E100: 4 | F100: 13 | G100: 14 | H100: 0 | I100: 8 | J100: 9 | K100: 16 | L100: 0 | M100: 0 | N100: 1 | O100: 23 | P100: 18 | Q100: 33 | R100: 0 | S100: 1 | T100: 26 | U100: 3 | V100: 11 | W100: 15 | X100: 4 | Y100: 0 | Z100: 14 | AA100: 0 | AB100: =SUM(C100:AA100) -> 245
...

Sheet pct
A1: State | B1: Party | C1: BDG | D1: Eco | E1: SWF | F1: Health | G1: PW | H1: VA | I1: LO | J1: Moral | K1: IM | L1: CR | M1: GM | N1: AB | O1: Edu | P1: Env | Q1: SFL | R1: CLT | S1: CF | T1: TR | U1: ND | V1: PTY | W1: CL | X1: GC | Y1: DR | Z1: Vote | AA1: OG
A2: AL | B2: D | C2: =counts!C2/counts!$AB2 -> 0.13888889 | D2: =counts!D2/counts!$AB2 -> 0.13888889 | E2: =counts!E2/counts!$AB2 -> 0.083333333 | F2: =counts!F2/counts!$AB2 -> 0.055555556 | G2: =counts!G2/counts!$AB2 -> 0.055555556 | H2: =counts!H2/counts!$AB2 -> 0 | I2: =counts!I2/counts!$AB2 -> 0.083333333 | J2: =counts!J2/counts!$AB2 -> 0.11111111 | ... AA2: =counts!AA2/counts!$AB2 -> 0.13888889
A3: AK | B3: D | C3: =counts!C3/counts!$AB3 -> 0.020833333 | D3: =counts!D3/counts!$AB3 -> 0.16666667 | E3: =counts!E3/counts!$AB3 -> 0.041666667 | F3: =counts!F3/counts!$AB3 -> 0.041666667 | G3: =counts!G3/counts!$AB3 -> 0.041666667 | H3: =counts!H3/counts!$AB3 -> 0.041666667 | I3: =counts!I3/counts!$AB3 -> 0.083333333 | J3: =counts!J3/counts!$AB3 -> 0.10416667 | ... AA3: =counts!AA3/counts!$AB3 -> 0.10416667
A4: AZ | B4: D | C4: =counts!C4/counts!$AB4 -> 0 | D4: =counts!D4/counts!$AB4 -> 0.084745763 | E4: =counts!E4/counts!$AB4 -> 0.050847458 | F4: =counts!F4/counts!$AB4 -> 0.06779661 | G4: =counts!G4/counts!$AB4 -> 0.06779661 | H4: =counts!H4/counts!$AB4 -> 0.033898305 | I4: =counts!I4/counts!$AB4 -> 0.06779661 | J4: =counts!J4/counts!$AB4 -> 0.13559322 | ... AA4: =counts!AA4/counts!$AB4 -> 0.033898305
A5: AR | B5: D | C5: =counts!C5/counts!$AB5 -> 0.026845638 | D5: =counts!D5/counts!$AB5 -> 0.11409396 | E5: =counts!E5/counts!$AB5 -> 0.067114094 | F5: =counts!F5/counts!$AB5 -> 0.12080537 | G5: =counts!G5/counts!$AB5 -> 0.046979866 | H5: =counts!H5/counts!$AB5 -> 0.073825503 | I5: =counts!I5/counts!$AB5 -> 0.033557047 | J5: =counts!J5/counts!$AB5 -> 0.053691275 | ... AA5: =counts!AA5/counts!$AB5 -> 0.046979866
A6: CA | B6: D | C6: =counts!C6/counts!$AB6 -> 0.0082304527 | D6: =counts!D6/counts!$AB6 -> 0.13374486 | E6: =counts!E6/counts!$AB6 -> 0.069958848 | F6: =counts!F6/counts!$AB6 -> 0.086419753 | G6: =counts!G6/counts!$AB6 -> 0.063786008 | H6: =counts!H6/counts!$AB6 -> 0.043209877 | I6: =counts!I6/counts!$AB6 -> 0.10699588 | J6: =counts!J6/counts!$AB6 -> 0.010288066 | ... AA6: =counts!AA6/counts!$AB6 -> 0.0020576132
A7: CO | B7: D | C7: =counts!C7/counts!$AB7 -> 0.016759777 | D7: =counts!D7/counts!$AB7 -> 0.1396648 | E7: =counts!E7/counts!$AB7 -> 0.019553073 | F7: =counts!F7/counts!$AB7 -> 0.10335196 | G7: =counts!G7/counts!$AB7 -> 0.069832402 | H7: =counts!H7/counts!$AB7 -> 0.011173184 | I7: =counts!I7/counts!$AB7 -> 0.055865922 | J7: =counts!J7/counts!$AB7 -> 0.0083798883 | ... AA7: =counts!AA7/counts!$AB7 -> 0.025139665
A8: CT | B8: D
A9: DE | B9: D
A10: FL | B10: D
A11: GA | B11: D
A12: HI | B12: D | C12: =counts!C12/counts!$AB12 -> 0.0050505051 | D12: =counts!D12/counts!$AB12 -> 0.22222222 | E12: =counts!E12/counts!$AB12 -> 0.055555556 | F12: =counts!F12/counts!$AB12 -> 0.04040404 | G12: =counts!G12/counts!$AB12 -> 0.1010101 | H12: =counts!H12/counts!$AB12 -> 0.035353535 | I12: =counts!I12/counts!$AB12 -> 0.0050505051 | J12: =counts!J12/counts!$AB12 -> 0.02020202 | ... AA12: =counts!AA12/counts!$AB12 -> 0.035353535
A13: ID | B13: D | C13: =counts!C13/counts!$AB13 -> 0.053846154 | D13: =counts!D13/counts!$AB13 -> 0.12307692 | E13: =counts!E13/counts!$AB13 -> 0.053846154 | F13: =counts!F13/counts!$AB13 -> 0.076923077 | G13: =counts!G13/counts!$AB13 -> 0.038461538 | H13: =counts!H13/counts!$AB13 -> 0.023076923 | I13: =counts!I13/counts!$AB13 -> 0.053846154 | J13: =counts!J13/counts!$AB13 -> 0.023076923 | ... AA13: =counts!AA13/counts!$AB13 -> 0.053846154
A14: IL | B14: D
A15: IN | B15: D | C15: =counts!C15/counts!$AB15 -> 0.014218009 | D15: =counts!D15/counts!$AB15 -> 0.33175355 | E15: =counts!E15/counts!$AB15 -> 0.047393365 | F15: =counts!F15/counts!$AB15 -> 0.023696682 | G15: =counts!G15/counts!$AB15 -> 0.10900474 | H15: =counts!H15/counts!$AB15 -> 0.033175355 | I15: =counts!I15/counts!$AB15 -> 0.0047393365 | J15: =counts!J15/counts!$AB15 -> 0.066350711 | ... AA15: =counts!AA15/counts!$AB15 -> 0.061611374
A16: IA | B16: D | C16: =counts!C16/counts!$AB16 -> 0.036016949 | D16: =counts!D16/counts!$AB16 -> 0.20550847 | E16: =counts!E16/counts!$AB16 -> 0.063559322 | F16: =counts!F16/counts!$AB16 -> 0.048728814 | G16: =counts!G16/counts!$AB16 -> 0.055084746 | H16: =counts!H16/counts!$AB16 -> 0.038135593 | I16: =counts!I16/counts!$AB16 -> 0.033898305 | J16: =counts!J16/counts!$AB16 -> 0.01059322 | ... AA16: =counts!AA16/counts!$AB16 -> 0.0021186441
A17: KS | B17: D | C17: =counts!C17/counts!$AB17 -> 0.075 | D17: =counts!D17/counts!$AB17 -> 0.275 | E17: =counts!E17/counts!$AB17 -> 0.08125 | F17: =counts!F17/counts!$AB17 -> 0.09375 | G17: =counts!G17/counts!$AB17 -> 0.0625 | H17: =counts!H17/counts!$AB17 -> 0.05 | I17: =counts!I17/counts!$AB17 -> 0.025 | J17: =counts!J17/counts!$AB17 -> 0.03125 | ... AA17: =counts!AA17/counts!$AB17 -> 0.01875
A18: KY | B18: D
A19: LA | B19: D
A20: ME | B20: D | C20: =counts!C70/counts!$AB20 -> 0.039735099 | D20: =counts!D70/counts!$AB20 -> 0.026490066 | E20: =counts!E70/counts!$AB20 -> 0.01986755 | F20: =counts!F70/counts!$AB20 -> 0.059602649 | G20: =counts!G70/counts!$AB20 -> 0.013245033 | H20: =counts!H70/counts!$AB20 -> 0 | I20: =counts!I70/counts!$AB20 -> 0.0066225166 | J20: =counts!J70/counts!$AB20 -> 0.1192053 | ... V20: =counts!V70/counts!$AB20 -> 0.0066225166 | W20: =counts!W20/counts!$AB20 -> 0.046357616 | X20: =counts!X20/counts!$AB20 -> 0 | Y20: =counts!Y20/counts!$AB20 -> 0 | Z20: =counts!Z20/counts!$AB20 -> 0.033112583 | AA20: =counts!AA20/counts!$AB20 -> 0.013245033
A21: MD | B21: D
A22: MA | B22: D | C22: =counts!C22/counts!$AB22 -> 0.055319149 | D22: =counts!D22/counts!$AB22 -> 0.11489362 | E22: =counts!E22/counts!$AB22 -> 0.063829787 | F22: =counts!F22/counts!$AB22 -> 0.05106383 | G22: =counts!G22/counts!$AB22 -> 0.085106383 | H22: =counts!H22/counts!$AB22 -> 0.012765957 | I22: =counts!I22/counts!$AB22 -> 0.063829787 | J22: =counts!J22/counts!$AB22 -> 0.012765957 | ... AA22: =counts!AA22/counts!$AB22 -> 0.055319149
A23: MI | B23: D
A24: MN | B24: D | C24: =counts!C24/counts!$AB24 -> 0.076923077 | D24: =counts!D24/counts!$AB24 -> 0.19909502 | E24: =counts!E24/counts!$AB24 -> 0.063348416 | F24: =counts!F24/counts!$AB24 -> 0.049773756 | G24: =counts!G24/counts!$AB24 -> 0.054298643 | H24: =counts!H24/counts!$AB24 -> 0.022624434 | I24: =counts!I24/counts!$AB24 -> 0.067873303 | J24: =counts!J24/counts!$AB24 -> 0 | ... AA24: =counts!AA24/counts!$AB24 -> 0.022624434
A25: MS | B25: D | C25: =counts!C25/counts!$AB25 -> 0 | D25: =counts!D25/counts!$AB25 -> 0.16216216 | E25: =counts!E25/counts!$AB25 -> 0.027027027 | F25: =counts!F25/counts!$AB25 -> 0.027027027 | G25: =counts!G25/counts!$AB25 -> 0 | H25: =counts!H25/counts!$AB25 -> 0.054054054 | I25: =counts!I25/counts!$AB25 -> 0.054054054 | J25: =counts!J25/counts!$AB25 -> 0 | ... AA25: =counts!AA25/counts!$AB25 -> 0
A26: MO | B26: D
A27: MT | B27: D | C27: =counts!C27/counts!$AB27 -> 0.0086114101 | D27: =counts!D27/counts!$AB27 -> 0.25726588 | E27: =counts!E27/counts!$AB27 -> 0.045209903 | F27: =counts!F27/counts!$AB27 -> 0.10441335 | G27: =counts!G27/counts!$AB27 -> 0.10764263 | H27: =counts!H27/counts!$AB27 -> 0.022604952 | I27: =counts!I27/counts!$AB27 -> 0.027987083 | J27: =counts!J27/counts!$AB27 -> 0.0010764263 | ... AA27: =counts!AA27/counts!$AB27 -> 0.0010764263
A28: NE | B28: D | C28: =counts!C28/counts!$AB28 -> 0.020086083 | D28: =counts!D28/counts!$AB28 -> 0.30129125 | E28: =counts!E28/counts!$AB28 -> 0.051649928 | F28: =counts!F28/counts!$AB28 -> 0.040172166 | G28: =counts!G28/counts!$AB28 -> 0.078909613 | H28: =counts!H28/counts!$AB28 -> 0.044476327 | I28: =counts!I28/counts!$AB28 -> 0.045911047 | J28: =counts!J28/counts!$AB28 -> 0.012912482 | ... AA28: =counts!AA28/counts!$AB28 -> 0.010043042
A29: NV | B29: D | C29: =counts!C29/counts!$AB29 -> 0.011049724 | D29: =counts!D29/counts!$AB29 -> 0.12154696 | E29: =counts!E29/counts!$AB29 -> 0.033149171 | F29: =counts!F29/counts!$AB29 -> 0.12154696 | G29: =counts!G29/counts!$AB29 -> 0.082872928 | H29: =counts!H29/counts!$AB29 -> 0.049723757 | I29: =counts!I29/counts!$AB29 -> 0.0055248619 | J29: =counts!J29/counts!$AB29 -> 0 | ... AA29: =counts!AA29/counts!$AB29 -> 0.0055248619
A30: NH | B30: D | C30: =counts!C30/counts!$AB30 -> 0.079545455 | D30: =counts!D30/counts!$AB30 -> 0.13636364 | E30: =counts!E30/counts!$AB30 -> 0.10227273 | F30: =counts!F30/counts!$AB30 -> 0.045454545 | G30: =counts!G30/counts!$AB30 -> 0.14772727 | H30: =counts!H30/counts!$AB30 -> 0.056818182 | I30: =counts!I30/counts!$AB30 -> 0.068181818 | J30: =counts!J30/counts!$AB30 -> 0.045454545 | ... AA30: =counts!AA30/counts!$AB30 -> 0.068181818
A31: NJ | B31: D
A32: NM | B32: D | C32: =counts!C32/counts!$AB32 -> 0.040268456 | D32: =counts!D32/counts!$AB32 -> 0.11073826 | E32: =counts!E32/counts!$AB32 -> 0.020134228 | F32: =counts!F32/counts!$AB32 -> 0.097315436 | G32: =counts!G32/counts!$AB32 -> 0.05033557 | H32: =counts!H32/counts!$AB32 -> 0.043624161 | I32: =counts!I32/counts!$AB32 -> 0.030201342 | J32: =counts!J32/counts!$AB32 -> 0.016778523 | ... AA32: =counts!AA32/counts!$AB32 -> 0.036912752
A33: NY | B33: D
A34: NC | B34: D | C34: =counts!C34/counts!$AB34 -> 0.046153846 | D34: =counts!D34/counts!$AB34 -> 0.16153846 | E34: =counts!E34/counts!$AB34 -> 0.11282051 | F34: =counts!F34/counts!$AB34 -> 0.069230769 | G34: =counts!G34/counts!$AB34 -> 0.0051282051 | H34: =counts!H34/counts!$AB34 -> 0.035897436 | I34: =counts!I34/counts!$AB34 -> 0.041025641 | J34: =counts!J34/counts!$AB34 -> 0.061538462 | ... AA34: =counts!AA34/counts!$AB34 -> 0.028205128
A35: ND | B35: D
A36: OH | B36: D
A37: OK | B37: D
A38: OR | B38: D | C38: =counts!C38/counts!$AB38 -> 0.051724138 | D38: =counts!D38/counts!$AB38 -> 0.15517241 | E38: =counts!E38/counts!$AB38 -> 0.068965517 | F38: =counts!F38/counts!$AB38 -> 0 | G38: =counts!G38/counts!$AB38 -> 0.017241379 | H38: =counts!H38/counts!$AB38 -> 0 | I38: =counts!I38/counts!$AB38 -> 0 | J38: =counts!J38/counts!$AB38 -> 0.10344828 | ... AA38: =counts!AA38/counts!$AB38 -> 0.034482759
A39: PA | B39: D
A40: RI | B40: D
A41: SC | B41: D | C41: =counts!C41/counts!$AB41 -> 0.052631579 | D41: =counts!D41/counts!$AB41 -> 0 | E41: =counts!E41/counts!$AB41 -> 0 | F41: =counts!F41/counts!$AB41 -> 0 | G41: =counts!G41/counts!$AB41 -> 0 | H41: =counts!H41/counts!$AB41 -> 0 | I41: =counts!I41/counts!$AB41 -> 0 | J41: =counts!J41/counts!$AB41 -> 0 | ... AA41: =counts!AA41/counts!$AB41 -> 0
A42: SD | B42: D | C42: =counts!C42/counts!$AB42 -> 0.014705882 | D42: =counts!D42/counts!$AB42 -> 0.41176471 | E42: =counts!E42/counts!$AB42 -> 0.16176471 | F42: =counts!F42/counts!$AB42 -> 0.058823529 | G42: =counts!G42/counts!$AB42 -> 0 | H42: =counts!H42/counts!$AB42 -> 0.073529412 | I42: =counts!I42/counts!$AB42 -> 0.014705882 | J42: =counts!J42/counts!$AB42 -> 0 | ... AA42: =counts!AA42/counts!$AB42 -> 0
A43: TN | B43: D
A44: TX | B44: D | C44: =counts!C44/counts!$AB44 -> 0.030821918 | D44: =counts!D44/counts!$AB44 -> 0.11757991 | E44: =counts!E44/counts!$AB44 -> 0.095890411 | F44: =counts!F44/counts!$AB44 -> 0.085616438 | G44: =counts!G44/counts!$AB44 -> 0.054794521 | H44: =counts!H44/counts!$AB44 -> 0.04109589 | I44: =counts!I44/counts!$AB44 -> 0.10502283 | J44: =counts!J44/counts!$AB44 -> 0.002283105 | ... AA44: =counts!AA44/counts!$AB44 -> 0.0079908676
A45: UT | B45: D | C45: =counts!C45/counts!$AB45 -> 0.077294686 | D45: =counts!D45/counts!$AB45 -> 0.11594203 | E45: =counts!E45/counts!$AB45 -> 0.043478261 | F45: =counts!F45/counts!$AB45 -> 0.048309179 | G45: =counts!G45/counts!$AB45 -> 0.038647343 | H45: =counts!H45/counts!$AB45 -> 0.06763285 | I45: =counts!I45/counts!$AB45 -> 0.028985507 | J45: =counts!J45/counts!$AB45 -> 0.033816425 | ... AA45: =counts!AA45/counts!$AB45 -> 0.033816425
A46: VT | B46: D | C46: =counts!C46/counts!$AB46 -> 0.03649635 | D46: =counts!D46/counts!$AB46 -> 0.15328467 | E46: =counts!E46/counts!$AB46 -> 0.13138686 | F46: =counts!F46/counts!$AB46 -> 0.072992701 | G46: =counts!G46/counts!$AB46 -> 0.065693431 | H46: =counts!H46/counts!$AB46 -> 0.0072992701 | I46: =counts!I46/counts!$AB46 -> 0.03649635 | J46: =counts!J46/counts!$AB46 -> 0.0072992701 | ... AA46: =counts!AA46/counts!$AB46 -> 0.072992701
A47: VA | B47: D
A48: WA | B48: D | C48: =counts!C48/counts!$AB48 -> 0.024667932 | D48: =counts!D48/counts!$AB48 -> 0.23529412 | E48: =counts!E48/counts!$AB48 -> 0.066413662 | F48: =counts!F48/counts!$AB48 -> 0.036053131 | G48: =counts!G48/counts!$AB48 -> 0.030360531 | H48: =counts!H48/counts!$AB48 -> 0.039848197 | I48: =counts!I48/counts!$AB48 -> 0.05313093 | J48: =counts!J48/counts!$AB48 -> 0.013282732 | ... AA48: =counts!AA48/counts!$AB48 -> 0.0037950664
A49: WV | B49: D | C49: =counts!C49/counts!$AB49 -> 0.017751479 | D49: =counts!D49/counts!$AB49 -> 0.18934911 | E49: =counts!E49/counts!$AB49 -> 0.10650888 | F49: =counts!F49/counts!$AB49 -> 0.12426036 | G49: =counts!G49/counts!$AB49 -> 0.041420118 | H49: =counts!H49/counts!$AB49 -> 0.059171598 | I49: =counts!I49/counts!$AB49 -> 0.041420118 | J49: =counts!J49/counts!$AB49 -> 0.029585799 | ... AA49: =counts!AA49/counts!$AB49 -> 0.029585799
A50: WI | B50: D | C50: =counts!C50/counts!$AB50 -> 0.026490066 | D50: =counts!D50/counts!$AB50 -> 0.17218543 | E50: =counts!E50/counts!$AB50 -> 0.079470199 | F50: =counts!F50/counts!$AB50 -> 0.039735099 | G50: =counts!G50/counts!$AB50 -> 0.0066225166 | H50: =counts!H50/counts!$AB50 -> 0.013245033 | I50: =counts!I50/counts!$AB50 -> 0.033112583 | J50: =counts!J50/counts!$AB50 -> 0.0066225166 | ... AA50: =counts!AA50/counts!$AB50 -> 0.033112583
A51: WY | B51: D | C51: =counts!C51/counts!$AB51 -> 0.02739726 | D51: =counts!D51/counts!$AB51 -> 0.16438356 | E51: =counts!E51/counts!$AB51 -> 0.068493151 | F51: =counts!F51/counts!$AB51 -> 0.04109589 | G51: =counts!G51/counts!$AB51 -> 0.04109589 | H51: =counts!H51/counts!$AB51 -> 0.054794521 | I51: =counts!I51/counts!$AB51 -> 0.02739726 | J51: =counts!J51/counts!$AB51 -> 0.02739726 | ... AA51: =counts!AA51/counts!$AB51 -> 0.068493151
A52: AL | B52: R | C52: =counts!C52/counts!$AB52 -> 0.10309278 | D52: =counts!D52/counts!$AB52 -> 0.16494845 | E52: =counts!E52/counts!$AB52 -> 0.051546392 | F52: =counts!F52/counts!$AB52 -> 0 | G52: =counts!G52/counts!$AB52 -> 0 | H52: =counts!H52/counts!$AB52 -> 0.020618557 | I52: =counts!I52/counts!$AB52 -> 0.010309278 | J52: =counts!J52/counts!$AB52 -> 0.010309278 | ... AA52: =counts!AA52/counts!$AB52 -> 0.092783505
A53: AK | B53: R | C53: =counts!C53/counts!$AB53 -> 0.034782609 | D53: =counts!D53/counts!$AB53 -> 0.086956522 | E53: =counts!E53/counts!$AB53 -> 0.0086956522 | F53: =counts!F53/counts!$AB53 -> 0.10434783 | G53: =counts!G53/counts!$AB53 -> 0.026086957 | H53: =counts!H53/counts!$AB53 -> 0.017391304 | I53: =counts!I53/counts!$AB53 -> 0.069565217 | J53: =counts!J53/counts!$AB53 -> 0.034782609 | ... AA53: =counts!AA53/counts!$AB53 -> 0.017391304
A54: AZ | B54: R | C54: =counts!C54/counts!$AB54 -> 0.034090909 | D54: =counts!D54/counts!$AB54 -> 0.125 | E54: =counts!E54/counts!$AB54 -> 0.011363636 | F54: =counts!F54/counts!$AB54 -> 0.056818182 | G54: =counts!G54/counts!$AB54 -> 0 | H54: =counts!H54/counts!$AB54 -> 0.045454545 | I54: =counts!I54/counts!$AB54 -> 0.079545455 | J54: =counts!J54/counts!$AB54 -> 0.10227273 | ... AA54: =counts!AA54/counts!$AB54 -> 0.056818182
A55: AR | B55: R | C55: =counts!C55/counts!$AB55 -> 0.081364829 | D55: =counts!D55/counts!$AB55 -> 0.167979 | E55: =counts!E55/counts!$AB55 -> 0.01312336 | F55: =counts!F55/counts!$AB55 -> 0.076115486 | G55: =counts!G55/counts!$AB55 -> 0.034120735 | H55: =counts!H55/counts!$AB55 -> 0.015748031 | I55: =counts!I55/counts!$AB55 -> 0.091863517 | J55: =counts!J55/counts!$AB55 -> 0.015748031 | ... AA55: =counts!AA55/counts!$AB55 -> 0.018372703
A56: CA | B56: R | C56: =counts!C56/counts!$AB56 -> 0.094059406 | D56: =counts!D56/counts!$AB56 -> 0.11386139 | E56: =counts!E56/counts!$AB56 -> 0.04950495 | F56: =counts!F56/counts!$AB56 -> 0.024752475 | G56: =counts!G56/counts!$AB56 -> 0.034653465 | H56: =counts!H56/counts!$AB56 -> 0.024752475 | I56: =counts!I56/counts!$AB56 -> 0.12376238 | J56: =counts!J56/counts!$AB56 -> 0.03960396 | ... AA56: =counts!AA56/counts!$AB56 -> 0.01980198
A57: CO | B57: R | C57: =counts!C57/counts!$AB57 -> 0.071428571 | D57: =counts!D57/counts!$AB57 -> 0.053571429 | E57: =counts!E57/counts!$AB57 -> 0.053571429 | F57: =counts!F57/counts!$AB57 -> 0.125 | G57: =counts!G57/counts!$AB57 -> 0.035714286 | H57: =counts!H57/counts!$AB57 -> 0.017857143 | I57: =counts!I57/counts!$AB57 -> 0 | J57: =counts!J57/counts!$AB57 -> 0.017857143 | ... AA57: =counts!AA57/counts!$AB57 -> 0.017857143
A58: CT | B58: R
A59: DE | B59: R
A60: FL | B60: R
A61: GA | B61: R
A62: HI | B62: R | C62: =counts!C62/counts!$AB62 -> 0.11111111 | D62: =counts!D62/counts!$AB62 -> 0.16666667 | E62: =counts!E62/counts!$AB62 -> 0.055555556 | F62: =counts!F62/counts!$AB62 -> 0 | G62: =counts!G62/counts!$AB62 -> 0 | H62: =counts!H62/counts!$AB62 -> 0 | I62: =counts!I62/counts!$AB62 -> 0 | J62: =counts!J62/counts!$AB62 -> 0.22222222 | ... AA62: =counts!AA62/counts!$AB62 -> 0
A63: ID | B63: R | C63: =counts!C63/counts!$AB63 -> 0.13157895 | D63: =counts!D63/counts!$AB63 -> 0.092105263 | E63: =counts!E63/counts!$AB63 -> 0.048245614 | F63: =counts!F63/counts!$AB63 -> 0.052631579 | G63: =counts!G63/counts!$AB63 -> 0.11842105 | H63: =counts!H63/counts!$AB63 -> 0.0087719298 | I63: =counts!I63/counts!$AB63 -> 0.039473684 | J63: =counts!J63/counts!$AB63 -> 0.0087719298 | ... AA63: =counts!AA63/counts!$AB63 -> 0.026315789
A64: IL | B64: R
A65: IN | B65: R | C65: =counts!C65/counts!$AB65 -> 0.18965517 | D65: =counts!D65/counts!$AB65 -> 0.14942529 | E65: =counts!E65/counts!$AB65 -> 0.040229885 | F65: =counts!F65/counts!$AB65 -> 0.045977011 | G65: =counts!G65/counts!$AB65 -> 0.074712644 | H65: =counts!H65/counts!$AB65 -> 0.051724138 | I65: =counts!I65/counts!$AB65 -> 0.034482759 | J65: =counts!J65/counts!$AB65 -> 0.091954023 | ... AA65: =counts!AA65/counts!$AB65 -> 0
A66: IA | B66: R | C66: =counts!C66/counts!$AB66 -> 0.10786106 | D66: =counts!D66/counts!$AB66 -> 0.11151737 | E66: =counts!E66/counts!$AB66 -> 0.036563071 | F66: =counts!F66/counts!$AB66 -> 0.0511883 | G66: =counts!G66/counts!$AB66 -> 0.063985375 | H66: =counts!H66/counts!$AB66 -> 0.0073126143 | I66: =counts!I66/counts!$AB66 -> 0.038391225 | J66: =counts!J66/counts!$AB66 -> 0.023765996 | ... AA66: =counts!AA66/counts!$AB66 -> 0.0054844607
A67: KS | B67: R | C67: =counts!C67/counts!$AB67 -> 0.11560694 | D67: =counts!D67/counts!$AB67 -> 0.052023121 | E67: =counts!E67/counts!$AB67 -> 0.01734104 | F67: =counts!F67/counts!$AB67 -> 0.040462428 | G67: =counts!G67/counts!$AB67 -> 0.080924855 | H67: =counts!H67/counts!$AB67 -> 0 | I67: =counts!I67/counts!$AB67 -> 0.057803468 | J67: =counts!J67/counts!$AB67 -> 0.080924855 | ... AA67: =counts!AA67/counts!$AB67 -> 0
A68: KY | B68: R
A69: LA | B69: R
A70: ME | B70: R | C70: =counts!C70/counts!$AB70 -> 0.069767442 | D70: =counts!D70/counts!$AB70 -> 0.046511628 | E70: =counts!E70/counts!$AB70 -> 0.034883721 | F70: =counts!F70/counts!$AB70 -> 0.10465116 | G70: =counts!G70/counts!$AB70 -> 0.023255814 | H70: =counts!H70/counts!$AB70 -> 0 | I70: =counts!I70/counts!$AB70 -> 0.011627907 | J70: =counts!J70/counts!$AB70 -> 0.20930233 | ... AA70: =counts!AA70/counts!$AB70 -> 0.023255814
A71: MD | B71: R
A72: MA | B72: R | C72: =counts!C72/counts!$AB72 -> 0.10373444 | D72: =counts!D72/counts!$AB72 -> 0.10373444 | E72: =counts!E72/counts!$AB72 -> 0 | F72: =counts!F72/counts!$AB72 -> 0.12863071 | G72: =counts!G72/counts!$AB72 -> 0.091286307 | H72: =counts!H72/counts!$AB72 -> 0.0041493776 | I72: =counts!I72/counts!$AB72 -> 0.020746888 | J72: =counts!J72/counts!$AB72 -> 0.041493776 | ... AA72: =counts!AA72/counts!$AB72 -> 0.049792531
A73: MI | B73: R
A74: MN | B74: R | C74: =counts!C74/counts!$AB74 -> 0.084558824 | D74: =counts!D74/counts!$AB74 -> 0.055147059 | E74: =counts!E74/counts!$AB74 -> 0.025735294 | F74: =counts!F74/counts!$AB74 -> 0.077205882 | G74: =counts!G74/counts!$AB74 -> 0 | H74: =counts!H74/counts!$AB74 -> 0.011029412 | I74: =counts!I74/counts!$AB74 -> 0.066176471 | J74: =counts!J74/counts!$AB74 -> 0.040441176 | ... AA74: =counts!AA74/counts!$AB74 -> 0.0073529412
A75: MS | B75: R | C75: =counts!C75/counts!$AB75 -> 0.17241379 | D75: =counts!D75/counts!$AB75 -> 0.045977011 | E75: =counts!E75/counts!$AB75 -> 0 | F75: =counts!F75/counts!$AB75 -> 0.08045977 | G75: =counts!G75/counts!$AB75 -> 0.068965517 | H75: =counts!H75/counts!$AB75 -> 0.022988506 | I75: =counts!I75/counts!$AB75 -> 0.068965517 | J75: =counts!J75/counts!$AB75 -> 0.034482759 | ... AA75: =counts!AA75/counts!$AB75 -> 0.057471264
A76: MO | B76: R | C76: =counts!C76/counts!$AB76 -> #DIV/0!
A77: MT | B77: R | C77: =counts!C77/counts!$AB77 -> 0.02293578 | D77: =counts!D77/counts!$AB77 -> 0.11009174 | E77: =counts!E77/counts!$AB77 -> 0.04587156 | F77: =counts!F77/counts!$AB77 -> 0.0091743119 | G77: =counts!G77/counts!$AB77 -> 0.21100917 | H77: =counts!H77/counts!$AB77 -> 0.004587156 | I77: =counts!I77/counts!$AB77 -> 0.10550459 | J77: =counts!J77/counts!$AB77 -> 0 | ... AA77: =counts!AA77/counts!$AB77 -> 0.0091743119
A78: NE | B78: R | C78: =counts!C78/counts!$AB78 -> 0.09947644 | D78: =counts!D78/counts!$AB78 -> 0.11518325 | E78: =counts!E78/counts!$AB78 -> 0.083769634 | F78: =counts!F78/counts!$AB78 -> 0.068062827 | G78: =counts!G78/counts!$AB78 -> 0.041884817 | H78: =counts!H78/counts!$AB78 -> 0.036649215 | I78: =counts!I78/counts!$AB78 -> 0.031413613 | J78: =counts!J78/counts!$AB78 -> 0.010471204 | ... AA78: =counts!AA78/counts!$AB78 -> 0.0052356021
A79: NV | B79: R | C79: =counts!C79/counts!$AB79 -> 0.13392857 | D79: =counts!D79/counts!$AB79 -> 0 | E79: =counts!E79/counts!$AB79 -> 0 | F79: =counts!F79/counts!$AB79 -> 0.044642857 | G79: =counts!G79/counts!$AB79 -> 0.14285714 | H79: =counts!H79/counts!$AB79 -> 0.017857143 | I79: =counts!I79/counts!$AB79 -> 0 | J79: =counts!J79/counts!$AB79 -> 0 | ... AA79: =counts!AA79/counts!$AB79 -> 0
A80: NH | B80: R | C80: =counts!C80/counts!$AB80 -> 0.11764706 | D80: =counts!D80/counts!$AB80 -> 0.1512605 | E80: =counts!E80/counts!$AB80 -> 0.0084033613 | F80: =counts!F80/counts!$AB80 -> 0.058823529 | G80: =counts!G80/counts!$AB80 -> 0.016806723 | H80: =counts!H80/counts!$AB80 -> 0.025210084 | I80: =counts!I80/counts!$AB80 -> 0.016806723 | J80: =counts!J80/counts!$AB80 -> 0.058823529 | ... AA80: =counts!AA80/counts!$AB80 -> 0
A81: NJ | B81: R
A82: NM | B82: R | C82: =counts!C82/counts!$AB82 -> 0 | D82: =counts!D82/counts!$AB82 -> 0.21428571 | E82: =counts!E82/counts!$AB82 -> 0 | F82: =counts!F82/counts!$AB82 -> 0.071428571 | G82: =counts!G82/counts!$AB82 -> 0 | H82: =counts!H82/counts!$AB82 -> 0 | I82: =counts!I82/counts!$AB82 -> 0.095238095 | J82: =counts!J82/counts!$AB82 -> 0.11904762 | ... AA82: =counts!AA82/counts!$AB82 -> 0
A83: NY | B83: R
A84: NC | B84: R | C84: =counts!C84/counts!$AB84 -> 0.093264249 | D84: =counts!D84/counts!$AB84 -> 0.051813472 | E84: =counts!E84/counts!$AB84 -> 0.082901554 | F84: =counts!F84/counts!$AB84 -> 0.051813472 | G84: =counts!G84/counts!$AB84 -> 0.010362694 | H84: =counts!H84/counts!$AB84 -> 0 | I84: =counts!I84/counts!$AB84 -> 0.077720207 | J84: =counts!J84/counts!$AB84 -> 0.0051813472 | ... AA84: =counts!AA84/counts!$AB84 -> 0.020725389
A85: ND | B85: R
A86: OH | B86: R
A87: OK | B87: R
A88: OR | B88: R | C88: =counts!C88/counts!$AB88 -> 0.022727273 | D88: =counts!D88/counts!$AB88 -> 0.053030303 | E88: =counts!E88/counts!$AB88 -> 0.045454545 | F88: =counts!F88/counts!$AB88 -> 0.060606061 | G88: =counts!G88/counts!$AB88 -> 0 | H88: =counts!H88/counts!$AB88 -> 0.0075757576 | I88: =counts!I88/counts!$AB88 -> 0.098484848 | J88: =counts!J88/counts!$AB88 -> 0.037878788 | ... AA88: =counts!AA88/counts!$AB88 -> 0.0075757576
A89: PA | B89: R
A90: RI | B90: R
A91: SC | B91: R
A92: SD | B92: R
A93: TN | B93: R
A94: TX | B94: R | C94: =counts!C94/counts!$AB94 -> 0.10355987 | D94: =counts!D94/counts!$AB94 -> 0.050161812 | E94: =counts!E94/counts!$AB94 -> 0.061488673 | F94: =counts!F94/counts!$AB94 -> 0.021035599 | G94: =counts!G94/counts!$AB94 -> 0.04368932 | H94: =counts!H94/counts!$AB94 -> 0.021035599 | I94: =counts!I94/counts!$AB94 -> 0.046925566 | J94: =counts!J94/counts!$AB94 -> 0.014563107 | ... AA94: =counts!AA94/counts!$AB94 -> 0.0097087379
A95: UT | B95: R | C95: =counts!C95/counts!$AB95 -> 0.040540541 | D95: =counts!D95/counts!$AB95 -> 0.094594595 | E95: =counts!E95/counts!$AB95 -> 0.040540541 | F95: =counts!F95/counts!$AB95 -> 0 | G95: =counts!G95/counts!$AB95 -> 0 | H95: =counts!H95/counts!$AB95 -> 0 | I95: =counts!I95/counts!$AB95 -> 0.054054054 | J95: =counts!J95/counts!$AB95 -> 0.094594595 | ... AA95: =counts!AA95/counts!$AB95 -> 0.027027027
A96: VT | B96: R | C96: =counts!C96/counts!$AB96 -> 0.10169492 | D96: =counts!D96/counts!$AB96 -> 0.11864407 | E96: =counts!E96/counts!$AB96 -> 0.050847458 | F96: =counts!F96/counts!$AB96 -> 0.033898305 | G96: =counts!G96/counts!$AB96 -> 0.06779661 | H96: =counts!H96/counts!$AB96 -> 0.016949153 | I96: =counts!I96/counts!$AB96 -> 0.042372881 | J96: =counts!J96/counts!$AB96 -> 0.11864407 | ... AA96: =counts!AA96/counts!$AB96 -> 0
A97: VA | B97: R
A98: WA | B98: R | C98: =counts!C98/counts!$AB98 -> 0.042553191 | D98: =counts!D98/counts!$AB98 -> 0.10638298 | E98: =counts!E98/counts!$AB98 -> 0.010638298 | F98: =counts!F98/counts!$AB98 -> 0.053191489 | G98: =counts!G98/counts!$AB98 -> 0.063829787 | H98: =counts!H98/counts!$AB98 -> 0.010638298 | I98: =counts!I98/counts!$AB98 -> 0.031914894 | J98: =counts!J98/counts!$AB98 -> 0.085106383 | ... AA98: =counts!AA98/counts!$AB98 -> 0
A99: WV | B99: R | C99: =counts!C99/counts!$AB99 -> 0.094972067 | D99: =counts!D99/counts!$AB99 -> 0.083798883 | E99: =counts!E99/counts!$AB99 -> 0.10614525 | F99: =counts!F99/counts!$AB99 -> 0.016759777 | G99: =counts!G99/counts!$AB99 -> 0.055865922 | H99: =counts!H99/counts!$AB99 -> 0.039106145 | I99: =counts!I99/counts!$AB99 -> 0.044692737 | J99: =counts!J99/counts!$AB99 -> 0.022346369 | ... AA99: =counts!AA99/counts!$AB99 -> 0.022346369
A100: WI | B100: R | C100: =counts!C100/counts!$AB100 -> 0.081632653 | D100: =counts!D100/counts!$AB100 -> 0.048979592 | E100: =counts!E100/counts!$AB100 -> 0.016326531 | F100: =counts!F100/counts!$AB100 -> 0.053061224 | G100: =counts!G100/counts!$AB100 -> 0.057142857 | H100: =counts!H100/counts!$AB100 -> 0 | I100: =counts!I100/counts!$AB100 -> 0.032653061 | J100: =counts!J100/counts!$AB100 -> 0.036734694 | ... AA100: =counts!AA100/counts!$AB100 -> 0
...
